BEGIN:VCALENDAR
PRODID:-//Session events Calendar//IBA//EN
CALSCALE:GREGORIAN
VERSION:2.0
BEGIN:VEVENT
DTSTAMP:20260420T151627Z
DTSTART:20260408T234000Z
DTEND:20260409T001000Z
SUMMARY:Keynote speech
DESCRIPTION:
LOCATION:
UID:7e1d64a8-5768-429c-985d-f0e873f33816
END:VEVENT
END:VCALENDAR
