BEGIN:VCALENDAR
PRODID:-//Session events Calendar//IBA//EN
CALSCALE:GREGORIAN
VERSION:2.0
BEGIN:VEVENT
DTSTAMP:20260420T151627Z
DTSTART:20260408T233000Z
DTEND:20260408T234000Z
SUMMARY:Opening remarks
DESCRIPTION:
LOCATION:
UID:98f75183-d191-4729-b812-ddb5c560d2f4
END:VEVENT
END:VCALENDAR
