BEGIN:VCALENDAR
PRODID:-//Session events Calendar//IBA//EN
CALSCALE:GREGORIAN
VERSION:2.0
BEGIN:VEVENT
DTSTAMP:20260420T120736Z
DTSTART:20260127T080000Z
DTEND:20260127T184500Z
SUMMARY:Registration
DESCRIPTION:
LOCATION:
UID:72b7f039-8ec6-4174-a176-c8bd3aa1946e
END:VEVENT
END:VCALENDAR
