BEGIN:VCALENDAR
PRODID:-//Session events Calendar//IBA//EN
CALSCALE:GREGORIAN
VERSION:2.0
BEGIN:VEVENT
DTSTAMP:20260420T090927Z
DTSTART:20260129T053500Z
DTEND:20260129T054500Z
SUMMARY:Welcome from the IBA Leadership
DESCRIPTION:
LOCATION:
UID:a0395042-2322-4637-85f3-327279a46d99
END:VEVENT
END:VCALENDAR
