BEGIN:VCALENDAR
PRODID:-//Session events Calendar//IBA//EN
CALSCALE:GREGORIAN
VERSION:2.0
BEGIN:VEVENT
DTSTAMP:20260420T085347Z
DTSTART:20260206T100000Z
DTEND:20260206T111500Z
SUMMARY:ESG at a crossroads: transition in an evolving world
DESCRIPTION:Europe’s ESG framework is at a turning point\, with regulator
 s seeking to balance robust disclosure and an appropriate transition wit
 h calls for simplification and maintaining competitiveness in an evolvin
 g global landscape. Comprised principally of general counsels\, the pane
 l will offer a practical update on where the rules stand\, what changes 
 may lie ahead\, and how our clients are adapting. The discussion will be
  informed throughout by what boards and clients expect—and need—from the
 ir lawyers: clear\, pragmatic advice that manages compliance without los
 ing sight of commercial priorities.\n
LOCATION:
UID:db9769cf-388a-47f8-9b7e-af2b34163866
END:VEVENT
END:VCALENDAR
