BEGIN:VCALENDAR
PRODID:-//Session events Calendar//IBA//EN
CALSCALE:GREGORIAN
VERSION:2.0
BEGIN:VEVENT
DTSTAMP:20260420T090809Z
DTSTART:20260206T093000Z
DTEND:20260206T100000Z
SUMMARY:Coffee/tea break
DESCRIPTION:
LOCATION:
UID:c2bb85ea-0756-4add-a3af-df086e4336ad
END:VEVENT
END:VCALENDAR
