BEGIN:VCALENDAR
PRODID:-//Session events Calendar//IBA//EN
CALSCALE:GREGORIAN
VERSION:2.0
BEGIN:VEVENT
DTSTAMP:20260420T085335Z
DTSTART:20260206T081500Z
DTEND:20260206T093000Z
SUMMARY:A deal lawyer’s worst nightmare: litigating your contract
DESCRIPTION:Under pressure\, corporate lawyers need to ensure not only th
 at deals get signed but also that their contracts stand up under scrutin
 y if (or when) relationships sour. This panel will highlight how seeming
 ly standard SPA provisions (from boilerplate to interim covenants to ind
 emnification provisions) are interpreted – or weaponised –in disputes by
  opportunistic litigators. Panellists will focus on the drafting lessons
  that deal lawyers can take from a litigator’s perspective\, providing p
 ractical guidance on how to draft with an eye toward enforceability and 
 clarity.
LOCATION:
UID:744ecb2b-4998-41bf-9268-f79f66da67bb
END:VEVENT
END:VCALENDAR
