BEGIN:VCALENDAR
PRODID:-//Session events Calendar//IBA//EN
CALSCALE:GREGORIAN
VERSION:2.0
BEGIN:VEVENT
DTSTAMP:20260420T090808Z
DTSTART:20260206T073000Z
DTEND:20260206T081500Z
SUMMARY:Welcome coffee/tea
DESCRIPTION:
LOCATION:
UID:346608b0-c9c7-4eaf-8304-e94e1d4a52fd
END:VEVENT
END:VCALENDAR
