BEGIN:VCALENDAR
PRODID:-//Session events Calendar//IBA//EN
CALSCALE:GREGORIAN
VERSION:2.0
BEGIN:VEVENT
DTSTAMP:20260420T103547Z
DTSTART:20260206T073000Z
DTEND:20260206T110000Z
SUMMARY:Registration
DESCRIPTION:
LOCATION:
UID:5a13c1ea-559e-4291-b951-46df9fca1cb4
END:VEVENT
END:VCALENDAR
