BEGIN:VCALENDAR
PRODID:-//Session events Calendar//IBA//EN
CALSCALE:GREGORIAN
VERSION:2.0
BEGIN:VEVENT
DTSTAMP:20260420T103625Z
DTSTART:20260205T150000Z
DTEND:20260205T153000Z
SUMMARY:Coffee/tea break
DESCRIPTION:
LOCATION:
UID:4dd4e7be-b90d-4a8f-9fa3-086799fb2582
END:VEVENT
END:VCALENDAR
