BEGIN:VCALENDAR
PRODID:-//Session events Calendar//IBA//EN
CALSCALE:GREGORIAN
VERSION:2.0
BEGIN:VEVENT
DTSTAMP:20260420T090810Z
DTSTART:20260205T140000Z
DTEND:20260205T150000Z
SUMMARY:Doing deals in the U.S. now
DESCRIPTION:The United States continues to stand out as a large\, complex
  and highly competitive market. In many respects\, given the consumer st
 rength and velocity of trade\, it is the place where any global business
  has to be. But it has changed dramatically in the last ten years\, maki
 ng it more challenging for foreign businesses to succeed as the future b
 ecomes less clear. This panel of experts – who regularly undertake deals
  in the US\, as well as other parts of the world – will discuss what mak
 es the country distinctive\, how it has changed and where it is going. S
 ubjects will include the advantages of being in the US\, the evolving le
 gal and regulatory landscape\, and the unique tactics that make it so fu
 n. The panel will also address practical considerations for cross-border
  deals\, and how lawyers can be on top of the issues that clients will c
 are about.\n
LOCATION:
UID:889f27ec-fb7d-48d4-9b95-1b2e7a9bf6e0
END:VEVENT
END:VCALENDAR
