BEGIN:VCALENDAR
PRODID:-//Session events Calendar//IBA//EN
CALSCALE:GREGORIAN
VERSION:2.0
BEGIN:VEVENT
DTSTAMP:20260420T103625Z
DTSTART:20260205T130000Z
DTEND:20260205T140000Z
SUMMARY:Private Equity – focus on infrastructure
DESCRIPTION:Infrastructure has become one of the most dynamic segments of
  private equity\, expanding beyond traditional categories into areas suc
 h as energy transition and digital infrastructure. This panel will explo
 re what differentiates infrastructure from other categories\, how LP exp
 ectations are evolving\, and how competitive pressures shape deal struct
 ures and exits. Speakers will discuss the latest developments in the sec
 tor\, including how investors and advisers are approaching risk allocati
 on\, financing structures\, and cross-border regulatory hurdles. With ca
 se studies drawn from recent transactions\, the panel will also highligh
 t practical lessons relating to valuations\, consortium and management a
 greements and diligence and W&amp\;I.\n
LOCATION:
UID:9c042156-903f-4a5c-b032-8363122c3b3e
END:VEVENT
END:VCALENDAR
