BEGIN:VCALENDAR
PRODID:-//Session events Calendar//IBA//EN
CALSCALE:GREGORIAN
VERSION:2.0
BEGIN:VEVENT
DTSTAMP:20260420T090939Z
DTSTART:20260205T113000Z
DTEND:20260205T130000Z
SUMMARY:Lunch
DESCRIPTION:
LOCATION:
UID:ebdbf80b-00de-489b-82dc-5c2bdb325bdb
END:VEVENT
END:VCALENDAR
