BEGIN:VCALENDAR
PRODID:-//Session events Calendar//IBA//EN
CALSCALE:GREGORIAN
VERSION:2.0
BEGIN:VEVENT
DTSTAMP:20260420T090938Z
DTSTART:20260205T101500Z
DTEND:20260205T113000Z
SUMMARY:Current legal developments in European private M&A
DESCRIPTION:Preeminent practitioners will present the latest legal and ma
 rket developments shaping private M&amp\;A transactions in Europe. In ad
 dition to broader trends\, the panel will make a deep dive into two case
  studies:\n\nthe evolving use of W&amp\;I insurance - including common t
 riggers and emerging use cases\; and\nstrategies for salvaging do-or-die
  transactions despite the emergence of significant last-minute issues (s
 uch as a material due diligence problem or changes in the external conte
 xt)\n
LOCATION:
UID:08ddb1fe-af0b-4e1f-8b46-e13cdb085288
END:VEVENT
END:VCALENDAR
