BEGIN:VCALENDAR
PRODID:-//Session events Calendar//IBA//EN
CALSCALE:GREGORIAN
VERSION:2.0
BEGIN:VEVENT
DTSTAMP:20260420T090941Z
DTSTART:20260205T094500Z
DTEND:20260205T101500Z
SUMMARY:Coffee/tea break
DESCRIPTION:
LOCATION:
UID:e57bd8a8-27bd-47d4-8d88-263d1aa24c36
END:VEVENT
END:VCALENDAR
