BEGIN:VCALENDAR
PRODID:-//Session events Calendar//IBA//EN
CALSCALE:GREGORIAN
VERSION:2.0
BEGIN:VEVENT
DTSTAMP:20260420T085640Z
DTSTART:20260205T081500Z
DTEND:20260205T094500Z
SUMMARY:Morning highlight
DESCRIPTION:Keynote address: State of the European M&amp\;A market\n\nKey
 note speaker\nMarcus Schenck Managing Director\, Lazard\, Munich\n\n\nLe
 ading at the edge: technology\, AI and the transformation of business - 
 a fireside chat with a global business leader\n\nThe pace of technologic
 al change is redefining competition\, risk and value. In this fireside c
 hat\, Capgemini CEO Aiman Ezzat shares how leaders bet on emerging tech\
 , scale innovation and turn breakthroughs into measurable outcomes. They
  will examine what rapid advances in technology\, like the emergence of 
 AI\, mean for strategy\, operating models\, governance\, the pressures o
 n boards and institutions\, and how the business of law may be transform
 ed. The discussion will focus on how to build durable advantage in a wor
 ld that refuses to stand still.\n\nSpeaker\nAiman Ezzat CEO\, Capgemini\
 , Paris\n\n\nIntroduction\nMaria Pernas Group General Counsel and Commer
 cial and Contract Management\, Capgemini\, Paris\n\nModerators \nBertran
 d Cardi Darrois Villey Maillot Brochier\, Paris\; Co-Chair\, IBA Corpora
 te and M&amp\;A Law Committee\nGabriella Covino Gianni &amp\; Origoni\, 
 Rome\; Vice Chair\, IBA Corporate and M&amp\;A Law Committee\nEmanuel P 
 Strehle Hengeler Mueller\, Munich \n\n
LOCATION:
UID:f9652c58-6752-4982-a5ac-75d0b522170f
END:VEVENT
END:VCALENDAR
