BEGIN:VCALENDAR
PRODID:-//Session events Calendar//IBA//EN
CALSCALE:GREGORIAN
VERSION:2.0
BEGIN:VEVENT
DTSTAMP:20260420T090939Z
DTSTART:20260205T080000Z
DTEND:20260205T081500Z
SUMMARY:Welcome remarks from the Conference Co-Chairs
DESCRIPTION:
LOCATION:
UID:60380227-9462-471c-8a7b-a1d784de8888
END:VEVENT
END:VCALENDAR
