BEGIN:VCALENDAR
PRODID:-//Session events Calendar//IBA//EN
CALSCALE:GREGORIAN
VERSION:2.0
BEGIN:VEVENT
DTSTAMP:20260420T085610Z
DTSTART:20260205T073000Z
DTEND:20260205T080000Z
SUMMARY:Welcome coffee/tea
DESCRIPTION:
LOCATION:
UID:51867aba-5a4f-4cca-ae4f-1b1e43d0d912
END:VEVENT
END:VCALENDAR
