BEGIN:VCALENDAR
PRODID:-//Session events Calendar//IBA//EN
CALSCALE:GREGORIAN
VERSION:2.0
BEGIN:VEVENT
DTSTAMP:20260420T085611Z
DTSTART:20260205T064500Z
DTEND:20260205T170000Z
SUMMARY:Registration
DESCRIPTION:
LOCATION:
UID:298214e9-3543-4010-84dd-145d6811e9cb
END:VEVENT
END:VCALENDAR
