BEGIN:VCALENDAR
PRODID:-//Session events Calendar//IBA//EN
CALSCALE:GREGORIAN
VERSION:2.0
BEGIN:VEVENT
DTSTAMP:20260425T140607Z
DTSTART:20260418T153000Z
DTEND:20260418T154500Z
SUMMARY:Closing remarks from the conference Co-Chairs
DESCRIPTION:
LOCATION:
UID:82db2d3a-1767-4218-8e29-3734650a3c2a
END:VEVENT
END:VCALENDAR
