BEGIN:VCALENDAR
PRODID:-//Session events Calendar//IBA//EN
CALSCALE:GREGORIAN
VERSION:2.0
BEGIN:VEVENT
DTSTAMP:20260425T140607Z
DTSTART:20260418T141500Z
DTEND:20260418T153000Z
SUMMARY:Climate: collateral and catalyst
DESCRIPTION:Climate change is fuelling conflict\, driving displacement\, 
 and increasingly being used as a weapon of war. Flora and fauna are caug
 ht in the crossfire of severe military actions leading to mass ecologica
 l harms that will echo for generations. Calls to recognise ecocide as th
 e fifth international crime at the ICC are gaining traction\, emphasisin
 g climate justice as firmly within the war crimes discourse.\n
LOCATION:
UID:00fe32d4-0fec-41e8-bbbe-f7ee8d7d81b9
END:VEVENT
END:VCALENDAR
