BEGIN:VCALENDAR
PRODID:-//Session events Calendar//IBA//EN
CALSCALE:GREGORIAN
VERSION:2.0
BEGIN:VEVENT
DTSTAMP:20260425T140607Z
DTSTART:20260418T134500Z
DTEND:20260418T141500Z
SUMMARY:Coffee/tea break
DESCRIPTION:Foyer Auditorium 1B.10\n
LOCATION:
UID:0c98dd5b-fe93-4576-981b-b3a4065d7824
END:VEVENT
END:VCALENDAR
