BEGIN:VCALENDAR
PRODID:-//Session events Calendar//IBA//EN
CALSCALE:GREGORIAN
VERSION:2.0
BEGIN:VEVENT
DTSTAMP:20260425T140607Z
DTSTART:20260418T101500Z
DTEND:20260418T113000Z
SUMMARY:Tradeoffs: war\, supply and profit
DESCRIPTION:Corporate\, financial and legal actors are increasingly (or l
 ess opaquely) implicated in atrocity crimes\, from supplying weapons to 
 facilitating sanctions evasion. Conflicts in Ukraine\, Sudan\, Myanmar a
 nd Israel/Palestine highlight the entanglement of business\, state polic
 y and serious violations of international law.\n
LOCATION:
UID:2919a97b-defc-4ae5-9728-0208fb5f5570
END:VEVENT
END:VCALENDAR
