BEGIN:VCALENDAR
PRODID:-//Session events Calendar//IBA//EN
CALSCALE:GREGORIAN
VERSION:2.0
BEGIN:VEVENT
DTSTAMP:20260425T140607Z
DTSTART:20260418T113000Z
DTEND:20260418T123000Z
SUMMARY:Lunch
DESCRIPTION:Campus cafeteria\, second floor\n
LOCATION:
UID:83e74c1d-f546-4146-af4f-b294f129e22b
END:VEVENT
END:VCALENDAR
