BEGIN:VCALENDAR
PRODID:-//Session events Calendar//IBA//EN
CALSCALE:GREGORIAN
VERSION:2.0
BEGIN:VEVENT
DTSTAMP:20260425T140630Z
DTSTART:20260418T084500Z
DTEND:20260418T090000Z
SUMMARY:Coffee/tea break
DESCRIPTION:Foyer Auditorium 1B.10\n
LOCATION:
UID:2c116c95-b13f-416b-be24-027eee697034
END:VEVENT
END:VCALENDAR
