BEGIN:VCALENDAR
PRODID:-//Session events Calendar//IBA//EN
CALSCALE:GREGORIAN
VERSION:2.0
BEGIN:VEVENT
DTSTAMP:20260425T140631Z
DTSTART:20260418T073000Z
DTEND:20260418T074000Z
SUMMARY:Welcome remarks from the IBA President
DESCRIPTION:
LOCATION:
UID:e55bbebb-0741-4f4e-8e89-f91287e1c221
END:VEVENT
END:VCALENDAR
