BEGIN:VCALENDAR
PRODID:-//Session events Calendar//IBA//EN
CALSCALE:GREGORIAN
VERSION:2.0
BEGIN:VEVENT
DTSTAMP:20260420T090755Z
DTSTART:20260304T164500Z
DTEND:20260304T170000Z
SUMMARY:Tea / coffee break
DESCRIPTION:
LOCATION:
UID:91d4d3cc-e700-416d-b6e9-2e0e454c17f7
END:VEVENT
END:VCALENDAR
