BEGIN:VCALENDAR
PRODID:-//Session events Calendar//IBA//EN
CALSCALE:GREGORIAN
VERSION:2.0
BEGIN:VEVENT
DTSTAMP:20260420T092925Z
DTSTART:20260210T070000Z
DTEND:20260210T071500Z
SUMMARY:Coffee/tea break
DESCRIPTION:
LOCATION:
UID:922cae5f-44a4-4242-aaaf-f847336ff546
END:VEVENT
END:VCALENDAR
