BEGIN:VCALENDAR
PRODID:-//Session events Calendar//IBA//EN
CALSCALE:GREGORIAN
VERSION:2.0
BEGIN:VEVENT
DTSTAMP:20260420T085611Z
DTSTART:20260210T054500Z
DTEND:20260210T070000Z
SUMMARY:Session six: Anti-corruption compliance and governance\, includin
 g the critical roles of in-house counsel and outside directors
DESCRIPTION:Effective anti-corruption compliance is inseparable from stro
 ng corporate governance. This session will examine how governance struct
 ures – including the active engagement of outside directors – can reinfo
 rce corporate integrity\, prevent situations where short-term profit is 
 prioritised over compliance obligations and ensure accountability at all
  levels. Panellists will discuss how in-house counsel and outside direct
 ors can work together to design\, implement and oversee robust complianc
 e programmes\, strengthen internal audit functions and align business st
 rategy with ethical and legal standards. Real-world case studies from As
 ia and beyond will highlight best practices for fostering a governance c
 ulture that supports transparent decision-making\, proactive risk manage
 ment and credible engagement with enforcement authorities in multi-juris
 dictional contexts.
LOCATION:
UID:0234bb98-1992-4a09-bde0-2b229d896be3
END:VEVENT
END:VCALENDAR
