BEGIN:VCALENDAR
PRODID:-//Session events Calendar//IBA//EN
CALSCALE:GREGORIAN
VERSION:2.0
BEGIN:VEVENT
DTSTAMP:20260420T090853Z
DTSTART:20260210T051500Z
DTEND:20260210T054500Z
SUMMARY:Keynote address
DESCRIPTION:
LOCATION:
UID:b8ae65e0-7c55-4949-9f79-79ed972b428f
END:VEVENT
END:VCALENDAR
