BEGIN:VCALENDAR
PRODID:-//Session events Calendar//IBA//EN
CALSCALE:GREGORIAN
VERSION:2.0
BEGIN:VEVENT
DTSTAMP:20260420T090940Z
DTSTART:20260210T021500Z
DTEND:20260210T024500Z
SUMMARY:Coffee/tea break and speed dating
DESCRIPTION:
LOCATION:
UID:f5d33944-f741-4109-90cf-94674832ee91
END:VEVENT
END:VCALENDAR
