BEGIN:VCALENDAR
PRODID:-//Session events Calendar//IBA//EN
CALSCALE:GREGORIAN
VERSION:2.0
BEGIN:VEVENT
DTSTAMP:20260420T085124Z
DTSTART:20260210T003000Z
DTEND:20260210T004000Z
SUMMARY:Welcome remarks by Conference Co-Chairs
DESCRIPTION:
LOCATION:
UID:fdc7f83b-8707-49dd-a4d6-f77230066f31
END:VEVENT
END:VCALENDAR
