BEGIN:VCALENDAR
PRODID:-//Session events Calendar//IBA//EN
CALSCALE:GREGORIAN
VERSION:2.0
BEGIN:VEVENT
DTSTAMP:20260420T090854Z
DTSTART:20260209T060000Z
DTEND:20260209T064500Z
SUMMARY:Coffee/tea break and speed dating
DESCRIPTION:
LOCATION:
UID:2aeb9910-b172-4a16-a7a9-f8d97ab74181
END:VEVENT
END:VCALENDAR
