BEGIN:VCALENDAR
PRODID:-//Session events Calendar//IBA//EN
CALSCALE:GREGORIAN
VERSION:2.0
BEGIN:VEVENT
DTSTAMP:20260420T090801Z
DTSTART:20260209T030000Z
DTEND:20260209T044500Z
SUMMARY:Lunch
DESCRIPTION:
LOCATION:
UID:24b7a085-ccff-4a54-98f8-14374b6ea35f
END:VEVENT
END:VCALENDAR
