BEGIN:VCALENDAR
PRODID:-//Session events Calendar//IBA//EN
CALSCALE:GREGORIAN
VERSION:2.0
BEGIN:VEVENT
DTSTAMP:20260420T090831Z
DTSTART:20260209T011500Z
DTEND:20260209T014500Z
SUMMARY:Coffee/tea break
DESCRIPTION:
LOCATION:
UID:add00d9b-c72c-4aeb-999d-6047c0e964f2
END:VEVENT
END:VCALENDAR
