BEGIN:VCALENDAR
PRODID:-//Session events Calendar//IBA//EN
CALSCALE:GREGORIAN
VERSION:2.0
BEGIN:VEVENT
DTSTAMP:20260420T090855Z
DTSTART:20260209T003000Z
DTEND:20260209T004000Z
SUMMARY:Welcome remarks by Conference Co-Chairs
DESCRIPTION:
LOCATION:
UID:5e029385-fea5-46b8-9388-7c594b7d7a58
END:VEVENT
END:VCALENDAR
