BEGIN:VCALENDAR
PRODID:-//Session events Calendar//IBA//EN
CALSCALE:GREGORIAN
VERSION:2.0
BEGIN:VEVENT
DTSTAMP:20260420T090833Z
DTSTART:20260129T133000Z
DTEND:20260129T134500Z
SUMMARY:Closing Remarks
DESCRIPTION:
LOCATION:
UID:a355210c-9b5a-4a8d-9f6b-ce1222608de1
END:VEVENT
END:VCALENDAR
