BEGIN:VCALENDAR
PRODID:-//Session events Calendar//IBA//EN
CALSCALE:GREGORIAN
VERSION:2.0
BEGIN:VEVENT
DTSTAMP:20260420T085444Z
DTSTART:20260129T120000Z
DTEND:20260129T121500Z
SUMMARY:Coffee Break
DESCRIPTION:
LOCATION:
UID:7cca6cc8-b2b1-4dff-880e-ab79c34985dc
END:VEVENT
END:VCALENDAR
