BEGIN:VCALENDAR
PRODID:-//Session events Calendar//IBA//EN
CALSCALE:GREGORIAN
VERSION:2.0
BEGIN:VEVENT
DTSTAMP:20260420T085520Z
DTSTART:20260129T104500Z
DTEND:20260129T120000Z
SUMMARY:Session three: Smart Cities
DESCRIPTION:The Smart Cities panel will delve into the complex interplay 
 between living\, transportation\, and energy infrastructure as cities em
 bed the internet of everything into their core design. This is tradition
 al infrastructure disputes on steroids\, as lawyers adapt to the critica
 l importance of interoperability\, resilient systems\, cybersecurity ris
 ks and new regulatory frameworks. As Smart Cities reimagine urban life\,
  the challenge for dispute experts will be to anticipate\, interpret\, a
 nd resolve unprecedented\, interconnected conflicts.
LOCATION:
UID:3c8fdd7f-0d1a-4977-8fb9-3feb773c9bca
END:VEVENT
END:VCALENDAR
