BEGIN:VCALENDAR
PRODID:-//Session events Calendar//IBA//EN
CALSCALE:GREGORIAN
VERSION:2.0
BEGIN:VEVENT
DTSTAMP:20260420T090806Z
DTSTART:20260129T101500Z
DTEND:20260129T104500Z
SUMMARY:A conversation with … 
DESCRIPTION:
LOCATION:
UID:23956d60-1f64-417f-a6a5-9eede217b7b1
END:VEVENT
END:VCALENDAR
