BEGIN:VCALENDAR
PRODID:-//Session events Calendar//IBA//EN
CALSCALE:GREGORIAN
VERSION:2.0
BEGIN:VEVENT
DTSTAMP:20260420T090933Z
DTSTART:20260129T090000Z
DTEND:20260129T101500Z
SUMMARY:Lunch
DESCRIPTION:
LOCATION:
UID:13617aef-15e7-4794-ba8b-b8a59d6eb0a9
END:VEVENT
END:VCALENDAR
