BEGIN:VCALENDAR
PRODID:-//Session events Calendar//IBA//EN
CALSCALE:GREGORIAN
VERSION:2.0
BEGIN:VEVENT
DTSTAMP:20260420T085537Z
DTSTART:20260129T073000Z
DTEND:20260129T074500Z
SUMMARY:Coffee Break
DESCRIPTION:
LOCATION:
UID:a715d30b-e322-409a-9f0f-64823975819e
END:VEVENT
END:VCALENDAR
