BEGIN:VCALENDAR
PRODID:-//Session events Calendar//IBA//EN
CALSCALE:GREGORIAN
VERSION:2.0
BEGIN:VEVENT
DTSTAMP:20260420T091042Z
DTSTART:20260129T074500Z
DTEND:20260129T090000Z
SUMMARY:Session two: New energies (green hydrogen\, energy storage and th
 e electrification of everything)
DESCRIPTION:The New Energies panel will delve into the rapidly evolving t
 rends shaping the sector\, from the rise of green hydrogen to breakthrou
 ghs in energy storage technologies. Meanwhile\, the surging demand for e
 lectricity is driving robust investment in upgrades\, smart grid solutio
 ns\, and cross-border energy networks. With investment and innovation co
 mes complexity and disputes. Our speakers will examine these trends\, wh
 at we need to know\, how we can anticipate points of friction and suppor
 t the sector’s transition.\n
LOCATION:
UID:be37f5c5-f05c-4253-83cc-d91604dd515c
END:VEVENT
END:VCALENDAR
