BEGIN:VCALENDAR
PRODID:-//Session events Calendar//IBA//EN
CALSCALE:GREGORIAN
VERSION:2.0
BEGIN:VEVENT
DTSTAMP:20260420T091031Z
DTSTART:20260129T061500Z
DTEND:20260129T073000Z
SUMMARY:Session one: From outer space to desert sands and under the sea
DESCRIPTION:This panel will explore the complexities of projects in these
  frontier environments\, and the disputes they give rise to. The panel w
 ill educate us about current trends and innovations\, and how we can pre
 pare for the disputes of the future arising out of these challenging pro
 jects.
LOCATION:
UID:9d231d6a-94a5-4895-82a0-bb51888d8e46
END:VEVENT
END:VCALENDAR
