BEGIN:VCALENDAR
PRODID:-//Session events Calendar//IBA//EN
CALSCALE:GREGORIAN
VERSION:2.0
BEGIN:VEVENT
DTSTAMP:20260420T094155Z
DTSTART:20260129T051500Z
DTEND:20260129T053500Z
SUMMARY:Keynote Address
DESCRIPTION:
LOCATION:
UID:bf4ad64c-75b8-4dca-8f72-45686ab35b31
END:VEVENT
END:VCALENDAR
