BEGIN:VCALENDAR
PRODID:-//Session events Calendar//IBA//EN
CALSCALE:GREGORIAN
VERSION:2.0
BEGIN:VEVENT
DTSTAMP:20260420T085717Z
DTSTART:20260129T054500Z
DTEND:20260129T061500Z
SUMMARY:Welcome and Introduction
DESCRIPTION:
LOCATION:
UID:bf3dfa0f-1f5c-4a9b-97ee-346bc6b45534
END:VEVENT
END:VCALENDAR
