BEGIN:VCALENDAR
PRODID:-//Session events Calendar//IBA//EN
CALSCALE:GREGORIAN
VERSION:2.0
BEGIN:VEVENT
DTSTAMP:20260420T085702Z
DTSTART:20260129T040000Z
DTEND:20260129T134500Z
SUMMARY:Registration
DESCRIPTION:
LOCATION:
UID:dc9ae6f5-50db-48c2-a9d7-2f9851122ef2
END:VEVENT
END:VCALENDAR
