BEGIN:VCALENDAR
PRODID:-//Session events Calendar//IBA//EN
CALSCALE:GREGORIAN
VERSION:2.0
BEGIN:VEVENT
DTSTAMP:20260420T133022Z
DTSTART:20251102T160000Z
DTEND:20251102T171500Z
SUMMARY:Litigation Committee open business meeting
DESCRIPTION:An open committee business meeting where all members and Offi
 cers are invited to learn more about the current and upcoming activities
  and developments of the Committee.
LOCATION:Room 716 A\, Level 700\, MTCC
UID:f0de6a80-30c9-4bf5-92db-f3e364c71f50
END:VEVENT
END:VCALENDAR
