BEGIN:VCALENDAR
PRODID:-//Session events Calendar//IBA//EN
CALSCALE:GREGORIAN
VERSION:2.0
BEGIN:VEVENT
DTSTAMP:20260420T120742Z
DTSTART:20260127T165500Z
DTEND:20260127T174000Z
SUMMARY:From courts to consequences: key tax rulings driving internationa
 l policy
DESCRIPTION:\n	Tax treaty abuse and EU directive abuse\n	Beneficial owner
 ship\n	Foreign tax credits\n	Exchange of information between tax and oth
 er authorities\n	EU directives and member state tax\n\n\nReporter\n\nKar
 anjot Singh Khurana Lakshmikumaran &amp\; Sridharan\, Delhi\n
LOCATION:
UID:1e933c14-b234-4d8b-8b13-025db1048564
END:VEVENT
END:VCALENDAR
