BEGIN:VCALENDAR
PRODID:-//Session events Calendar//IBA//EN
CALSCALE:GREGORIAN
VERSION:2.0
BEGIN:VEVENT
DTSTAMP:20260420T120736Z
DTSTART:20260127T162500Z
DTEND:20260127T165500Z
SUMMARY:Coffee/ tea break
DESCRIPTION:
LOCATION:
UID:18c1163a-9bcc-48cd-84b6-d9d4ff4ec1ec
END:VEVENT
END:VCALENDAR
